BEGIN:VCALENDAR
VERSION:2.0
PRODID:Imitheme.com 
BEGIN:VEVENT
UID:20260420T083700873228584
DTSTAMP;TZID=UTC:2026-04-20 08:37:00
DTSTART;TZID=America/Los_Angeles:20260126T000000
DTEND;TZID=America/Los_Angeles:20260126T000000
SUMMARY:Sandwich Ministry
LOCATION:
DESCRIPTION:Additional Sandwiches will be distributed at the Bolivar Lodge on 410 N Barron Street. First come, first serve. This location will close down once all sandwiches are dispersed.
URL:https://eatonfpc.org/eventer/sandwich-ministry-2/
END:VEVENT
END:VCALENDAR
