BEGIN:VCALENDAR
VERSION:2.0
PRODID:Imitheme.com 
BEGIN:VEVENT
UID:20260420T0452541834999131
DTSTAMP;TZID=UTC:2026-04-20 04:52:54
DTSTART;TZID=America/Los_Angeles:20260211T000000
DTEND;TZID=America/Los_Angeles:20260211T000000
SUMMARY:Ash Wednesday
LOCATION:Eaton First Presbyterian Church
DESCRIPTION:Join us for our Ash Wednesday service tonight.
URL:https://eatonfpc.org/eventer/ash-wednesday/
END:VEVENT
END:VCALENDAR
