BEGIN:VCALENDAR
VERSION:2.0
PRODID:Imitheme.com 
BEGIN:VEVENT
UID:20260420T0620015970118
DTSTAMP;TZID=UTC:2026-04-20 06:20:01
DTSTART;TZID=America/Los_Angeles:20260305T000000
DTEND;TZID=America/Los_Angeles:20260305T000000
SUMMARY:Elizabeth Circle
LOCATION:Eaton First Presbyterian Church
DESCRIPTION:Studying the book of Isaiah. New members are always welcome!
URL:https://eatonfpc.org/eventer/elizabeth-circle-3/
END:VEVENT
END:VCALENDAR
